BEGIN:VCALENDAR
VERSION:2.0
PRODID:-//hacksw/handcal//NONSGML v1.0//EN
BEGIN:VEVENT
DTSTAMP:20260802T223000Z
DTSTART:20260802T223000Z
DTEND:20260803T003000Z

SUMMARY:15th Anniversary Summer Tour
DESCRIPTION:In its 15th Anniversary Season, the Traverse City Dance Project returns with a vibrant six stop summer tour celebrating dance and live music, featuring seven professional dancers from across the country.Highlights include a new dance work by resident choreographer Jennifer Lott, with music composed by Charlie Millard and performed live by the Charlie Millard Band; NYC-based tap artist Madison Hilligoss; and a premiere by Artistic Director Brent Whitney, followed by a Q&A with the artists.Join us at the Great Lakes Center for the Arts rooftop terrace as the sun sets and the music and dance come alive. Enjoy cocktails from the bar as live music begins at 6:30 PM with the Charlie Millard Band, and the performance starts at 7:30 PM.We’re committed to accessibility—please let us know in advance if you need any accommodations. Limited number of tickets available, so don&#39;t delay!Performance Sponsors: The Croft Residency & Crooked Tree Arts Center School of Ballet Season Support: Kettering Family Foundation, Greenbrick Foundation Inc., Begonia Charitable Foundation, Rotary Charities of Traverse City, Michigan Arts and Culture Council, National Endowment for the Arts, Grand Traverse Regional Community Foundation, and American Arts Relief
END:VEVENT
END:VCALENDAR