BEGIN:VCALENDAR
VERSION:2.0
PRODID:-//hacksw/handcal//NONSGML v1.0//EN
BEGIN:VEVENT
DTSTAMP:20260504T230000Z
DTSTART:20260504T230000Z
DTEND:20260505T010000Z

SUMMARY:Star Wars: A New Hope
DESCRIPTION:May the 4th calls for something legendary. Join us for a special big-screen celebration of Star Wars: A New Hope, complete with specialty drinks inspired by the galaxy—including a Yoda Soda bar—and a photo op to mark the occasion.Think your Jedi mind is strong? Put it to the test. Gather your crew and arrive early at 6:00PM for Star Wars trivia—teams of up to six.Whether you come channeling the Jedi, the Sith, or the Force itself, costumes are encouraged. Luke Skywalker begins a journey that will change the galaxy in Star Wars: A New Hope. Nineteen years after the formation of the evil Galactic Empire, Luke is thrust into the struggle of the Rebel Alliance when he meets Obi-Wan Kenobi, who has lived for years in seclusion on the desert planet of Tatooine. Obi-Wan begins Luke’s Jedi training as Luke joins him on a daring mission to rescue Rebel leader Princess Leia from the clutches of Darth Vader and the evil Empire. Rating: PG | Run Time: 2hr 1m
END:VEVENT
END:VCALENDAR