BEGIN:VCALENDAR
VERSION:2.0
PRODID:-//hacksw/handcal//NONSGML v1.0//EN
BEGIN:VEVENT
DTSTAMP:20260602T230000Z
DTSTART:20260602T230000Z
DTEND:20260603T010000Z

SUMMARY:Kinky Boots the Musical (on screen)
DESCRIPTION:With songs by Grammy® and Tony® winner Cyndi Lauper, direction and choreography by Jerry Mitchell (Legally Blonde, Hairspray), and a book by Broadway legend Harvey Fierstein (La Cage Aux Folles), Kinky Boots: The Musical (On Screen) delivers a “dazzling, fabulously sassy and uplifting” (Time Out) experience.This award-winning musical tells a joyous story of Brit grit and high-heeled hitmaking, taking you from the factory floor of Northampton to the glamorous catwalks of Milan.Rated: PG-13 | Run Time: 1hr 33min
END:VEVENT
END:VCALENDAR