BEGIN:VCALENDAR
VERSION:2.0
PRODID:-//hacksw/handcal//NONSGML v1.0//EN
BEGIN:VEVENT
DTSTAMP:20260530T220000Z
DTSTART:20260530T220000Z
DTEND:20260531T000000Z

SUMMARY:Hall of Fame
DESCRIPTION:Support for this event is generously provided by Northland Surveying & Mapping, and Bishop Automotive.
END:VEVENT
END:VCALENDAR