BEGIN:VCALENDAR
VERSION:2.0
PRODID:-//hacksw/handcal//NONSGML v1.0//EN
BEGIN:VEVENT
DTSTAMP:20260501T230000Z
DTSTART:20260501T230000Z
DTEND:20260502T020000Z

SUMMARY:Comedian Chris Turner
DESCRIPTION:”Absolutely hilarious…Brilliant. Brilliant. Brilliant”Simon CowellChris Turner was runner-up on Season 20 of America’s Got Talent, one of the first comedians to ever perform a Las Vegas residency with Cirque Du Soleil, defeated ChatGPT in TED’s inaugural Man vs. Machine rap battle, and earned rapturous standing ovations at his appearances on America’s Got Talent and The Late Show with Stephen Colbert. Based in New York, he’s a regular headline act at the world-famous Comedy Cellar, with over 125 million views online thanks to his unmatched improvisational talent. Chris combines freestyle rap, musical comedy, stand-up, and improv in his unique live shows that have to be seen to be believed. His quotable gags and rapid freestyle raps have established him as one of the most in-demand acts on the corporate circuit and at comedy clubs around the world. He’s headlined for 1 million Dutch comedy fans on RTL4&#39;s flagship stand-up show, The Comedy Factory, appeared live on BBC Radio, and performed sold-out five-star runs at festivals worldwide. In 2024, his musical comedy extravaganza Childish toured to Adelaide, Orlando, Edinburgh, and Reykjavik Fringes, receiving glowing reviews, award nominations, and selling out three nights at New York’s legendary Joe’s Pub. For 2025, his latest show, Spontaneous, sees Chris and the audience join forces to create a brand-new hour of comedy at each performance.
END:VEVENT
END:VCALENDAR