BEGIN:VCALENDAR
VERSION:2.0
PRODID:-//hacksw/handcal//NONSGML v1.0//EN
BEGIN:VEVENT
DTSTAMP:20260623T233000Z
DTSTART:20260623T233000Z
DTEND:20260624T023000Z

SUMMARY:Cole Swindell 
DESCRIPTION:Country music superstar Cole Swindell, who Rolling Stone has called “a proven hit-maker,” has solidified himself as a hit songwriter, recording artist, and headlining performer over the past twelve years. The 4-time ACM Award-winner&#39;s recent highly-reactive song “Make Heaven Crowded,” inspired by a speech from Erika Kirk, and a song he says is the most important song he has written, was No. 1 on iTunes country chart and #2 on the all-genre iTunes chart. The debut single, “Forever To Me,” from his fifth studio album, Spanish Moss, became his 13th No. 1 single as an artist – 14th as a songwriter. 12 of Swindell’s 13 No. 1 singles have been certified Platinum by the RIAA, with three being 3X Platinum (“Chillin’ It,” “You Should Be Here,” and “She Had Me At Heads Carolina”) and two being 2X Platinum (“Ain’t Worth The Whiskey” and “Break Up In The End”).  Swindell, who The Tennessean called a “hard-charging competitor armed with a mastery of the art of the craft, tirelessly looking for ways to improve his work,” just wrapped his 2025 headlining Happy Hour Sad Tour. 
END:VEVENT
END:VCALENDAR