BEGIN:VCALENDAR
VERSION:2.0
PRODID:-//hacksw/handcal//NONSGML v1.0//EN
BEGIN:VEVENT
DTSTAMP:20260618T230000Z
DTSTART:20260618T230000Z
DTEND:20260619T000000Z

SUMMARY:An Evening with John U Bacon
DESCRIPTION:“John Bacon has done it again! This is another riveting narrative that puts facts on a still mesmerizing legend. But this is more than getting the details right. Bacon has distilled the essence of the story and rendered a huge monument to those lost and a great gift to the rest of us.”Ken Burns, filmmakerJoin us Thursday, June 18th, for An Evening with John U. Bacon, celebrating his newest book, The Gales of November: The Untold Story of the Edmund Fitzgerald.2025 marked the fiftieth anniversary of the Edmund Fitzgerald’s sinking, the bestselling author of The Great Halifax Explosion tells the definitive story of the “Mighty Fitz.”Few endeavors have bound time so mercilessly to money as Great Lakes shipping did at its peak, and no vessel had been more perfectly designed to maximize both than the S. S. Edmund Fitzgerald. At 75 feet wide and 729 feet long, the Fitzgerald was at the time of her launch the largest ship on the lakes, and she repeatedly broke her own records for the largest loads, the fastest runs, and the biggest season hauls throughout her career. She was a champion heavyweight, sprinter, and workhorse, all in one.But on November 10, 1975, when the “storm of the century” threw 100-mile-per-hour winds and 50-foot waves on Lake Superior, the Mighty Fitz found itself at the worst possible place, at the worst possible time. When she sank, she took all 29 men on board down with her, leaving the tragedy shrouded in mystery for half a century.In The Gales of November, award-winning journalist John U. Bacon presents the definitive account of the disaster, drawing on more than 100 interviews with the families, friends, and former crewmates of those lost. Bacon explores the vital role Great Lakes shipping played in America’s economic boom, the uncommon lives the sailors led, the sinking’s most likely causes, and the heartbreaking aftermath for those left behind—“the wives, the sons, and the daughters” as Gordon Lightfoot sang in his unforgettable ballad.Focused on those directly affected by the tragedy, The Gales of November is both an emotional tribute to the Fitzgerald’s captain and crew and a propulsive, page-turning narrative history of America’s most mourned shipwreck.“The wreck of the Fitzgerald has long fascinated and frustrated storytellers. Now, at last, the story is deftly and deeply explored by John U. Bacon in this terrific, gripping account.” —Jonathan Eig, winner of the Pulitzer Prize for King: A LifeJohn U. Bacon has authored fourteen books on sports, business, and history, the last seven of which are critically acclaimed national bestsellers, including five New York Times bestsellers. He lives in Ann Arbor and Northern Michigan with his wife and son.McLean & Eakin Booksellers will be in the Lobby selling books before and after the event.
END:VEVENT
END:VCALENDAR